BEGIN:VCALENDAR
VERSION:2.0
PRODID:KKTIX
CALSCALE:GREGORIAN
METHOD:PUBLISH
BEGIN:VTIMEZONE
TZID:Asia/Taipei
END:VTIMEZONE
BEGIN:VEVENT
DTSTAMP:20260422T060938Z
UID:6eb04b69-d8df-4e5b-b306-21421f26054e
DTSTART:20260426T083000Z
DTEND:20260426T100000Z
CLASS:PUBLIC
DESCRIPTION:https://basilica.kktix.cc/events/0426jazz
LOCATION: (台北市大同區迪化街一段280巷6號) Basilica 爵士藝
 文咖啡
SUMMARY:【一杯咖啡聽我彈爵士吉他】午後特調：最適合搭
 配咖啡的爵士樂示範與交流
END:VEVENT
END:VCALENDAR
