BEGIN:VCALENDAR
VERSION:2.0
PRODID:KKTIX
CALSCALE:GREGORIAN
METHOD:PUBLISH
BEGIN:VTIMEZONE
TZID:Asia/Taipei
END:VTIMEZONE
BEGIN:VEVENT
DTSTAMP:20260422T060537Z
UID:1fa1f33f-a492-4098-abbb-3e804e53242c
DTSTART:20260425T083000Z
DTEND:20260425T100000Z
CLASS:PUBLIC
DESCRIPTION:https://basilica.kktix.cc/events/0425jazz
LOCATION: (台北市大同區迪化街一段280巷6號) Basilica 爵士藝
 文咖啡
SUMMARY:【一杯咖啡聽我彈爵士吉他】經典情歌：從 〈Like S
 omeone in Love〉 聽見爵士的浪漫語彙
END:VEVENT
END:VCALENDAR
