BEGIN:VCALENDAR
VERSION:2.0
PRODID:KKTIX
CALSCALE:GREGORIAN
METHOD:PUBLISH
BEGIN:VTIMEZONE
TZID:Asia/Taipei
END:VTIMEZONE
BEGIN:VEVENT
DTSTAMP:20260422T050122Z
UID:24ba335c-3130-4e71-beda-b93626f49c16
DTSTART:20260424T113000Z
DTEND:20260424T130000Z
CLASS:PUBLIC
DESCRIPTION:https://basilica.kktix.cc/events/0424jazz
LOCATION: (台北市大同區迪化街一段280巷6號) Basilica 爵士藝
 文咖啡
SUMMARY:【一杯咖啡爵士樂導聆】愛情特調：經典情歌導聆
 與婚禮音樂運用指南
END:VEVENT
END:VCALENDAR
